Workbook
Name 加盟団体名: 各種大会・事業該当!$A$2:$A$35

Sheet 令和７年度向け提出書類 (記入例)
A1: 新年度（令和７年度）向け提出様式一覧表
C4: 加盟団体名 | E4: 足立区なぎなた連盟
C5: 担当者 | E5: ○○ △△
A7: 様式名 | G7: 資料番号 | H7: 提出締切日 | I7: 提出方法 | J7: 今回提出
A8: 大会等要項 | B8: 区民スポーツ大会※ | G8: 1-1 | H8: 45716 | I8: eメール／HP問合せフォーム | J8: 既済 | K8: 区民スポーツ大会 | L8: =INDEX(各種大会・事業該当!$B$2:$F$35,MATCH($E$4,各種大会・事業該当!$A$2:$A$35,0),MATCH(K8,各種大会・事業該当!$B$1:$F$1,0)) -> ○
B9: 東京都スポーツ大会足立区予選会※ | G9: 1-2 | H9: 45716 | I9: eメール／HP問合せフォーム | K9: 東京都スポーツ大会足立区予選会 | L9: =INDEX(各種大会・事業該当!$B$2:$F$35,MATCH($E$4,各種大会・事業該当!$A$2:$A$35,0),MATCH(K9,各種大会・事業該当!$B$1:$F$1,0)) -> 0
B10: ジュニアスポーツ大会※ | G10: 1-3 | H10: 45716 | I10: eメール／HP問合せフォーム | K10: ジュニアスポーツ大会 | L10: =INDEX(各種大会・事業該当!$B$2:$F$35,MATCH($E$4,各種大会・事業該当!$A$2:$A$35,0),MATCH(K10,各種大会・事業該当!$B$1:$F$1,0)) -> 0
B11: ジュニア育成地域推進事業※ | G11: 1-4 | H11: 45716 | I11: eメール／HP問合せフォーム | J11: ○ | K11: ジュニア育成地域推進事業 | L11: =INDEX(各種大会・事業該当!$B$2:$F$35,MATCH($E$4,各種大会・事業該当!$A$2:$A$35,0),MATCH(K11,各種大会・事業該当!$B$1:$F$1,0)) -> ○
B12: シニアスポーツ振興事業※ | G12: 1-5 | H12: 45716 | I12: eメール／HP問合せフォーム | K12: シニアスポーツ振興事業 | L12: =INDEX(各種大会・事業該当!$B$2:$F$35,MATCH($E$4,各種大会・事業該当!$A$2:$A$35,0),MATCH(K12,各種大会・事業該当!$B$1:$F$1,0)) -> 0
A13: 補助金 | B13: 区民スポーツ大会 | C13: 大会開催に伴う書類の提出について | G13: 2 | H13: 45716 | I13: eメール／HP問合せフォーム | J13: ○ | K13: 区民スポーツ大会 | L13: =INDEX(各種大会・事業該当!$B$2:$F$35,MATCH($E$4,各種大会・事業該当!$A$2:$A$35,0),MATCH(K13,各種大会・事業該当!$B$1:$F$1,0)) -> ○
C14: 実施計画書 | G14: 3 | H14: 45716 | I14: eメール／HP問合せフォーム | J14: ○ | K14: 区民スポーツ大会 | L14: =INDEX(各種大会・事業該当!$B$2:$F$35,MATCH($E$4,各種大会・事業該当!$A$2:$A$35,0),MATCH(K14,各種大会・事業該当!$B$1:$F$1,0)) -> ○
C15: 収支予算書 | G15: 4 | H15: 45716 | I15: eメール／HP問合せフォーム | J15: ○ | K15: 区民スポーツ大会 | L15: =INDEX(各種大会・事業該当!$B$2:$F$35,MATCH($E$4,各種大会・事業該当!$A$2:$A$35,0),MATCH(K15,各種大会・事業該当!$B$1:$F$1,0)) -> ○
C16: 謝金申請書・理由書（該当ある場合のみ） | G16: 5 | H16: 45716 | I16: eメール／HP問合せフォーム | J16: ○ | K16: 区民スポーツ大会 | L16: =INDEX(各種大会・事業該当!$B$2:$F$35,MATCH($E$4,各種大会・事業該当!$A$2:$A$35,0),MATCH(K16,各種大会・事業該当!$B$1:$F$1,0)) -> ○
B17: 東京都スポーツ大会足立区予選会 | C17: 大会開催に伴う書類の提出について | G17: 2 | H17: 45716 | I17: eメール／HP問合せフォーム | K17: 東京都スポーツ大会足立区予選会 | L17: =INDEX(各種大会・事業該当!$B$2:$F$35,MATCH($E$4,各種大会・事業該当!$A$2:$A$35,0),MATCH(K17,各種大会・事業該当!$B$1:$F$1,0)) -> 0
C18: 実施計画書 | G18: 3 | H18: 45716 | I18: eメール／HP問合せフォーム | K18: 東京都スポーツ大会足立区予選会 | L18: =INDEX(各種大会・事業該当!$B$2:$F$35,MATCH($E$4,各種大会・事業該当!$A$2:$A$35,0),MATCH(K18,各種大会・事業該当!$B$1:$F$1,0)) -> 0
C19: 収支予算書 | G19: 4 | H19: 45716 | I19: eメール／HP問合せフォーム | K19: 東京都スポーツ大会足立区予選会 | L19: =INDEX(各種大会・事業該当!$B$2:$F$35,MATCH($E$4,各種大会・事業該当!$A$2:$A$35,0),MATCH(K19,各種大会・事業該当!$B$1:$F$1,0)) -> 0
C20: 謝金申請書・理由書（該当ある場合のみ） | G20: 5 | H20: 45716 | I20: eメール／HP問合せフォーム | K20: 東京都スポーツ大会足立区予選会 | L20: =INDEX(各種大会・事業該当!$B$2:$F$35,MATCH($E$4,各種大会・事業該当!$A$2:$A$35,0),MATCH(K20,各種大会・事業該当!$B$1:$F$1,0)) -> 0
B21: ジュニアスポーツ大会 | C21: 大会開催に伴う書類の提出について | G21: 2 | H21: 45716 | I21: eメール／HP問合せフォーム | K21: ジュニアスポーツ大会 | L21: =INDEX(各種大会・事業該当!$B$2:$F$35,MATCH($E$4,各種大会・事業該当!$A$2:$A$35,0),MATCH(K21,各種大会・事業該当!$B$1:$F$1,0)) -> 0
C22: 実施計画書 | G22: 3 | H22: 45716 | I22: eメール／HP問合せフォーム | K22: ジュニアスポーツ大会 | L22: =INDEX(各種大会・事業該当!$B$2:$F$35,MATCH($E$4,各種大会・事業該当!$A$2:$A$35,0),MATCH(K22,各種大会・事業該当!$B$1:$F$1,0)) -> 0
C23: 収支予算書 | G23: 4 | H23: 45716 | I23: eメール／HP問合せフォーム | K23: ジュニアスポーツ大会 | L23: =INDEX(各種大会・事業該当!$B$2:$F$35,MATCH($E$4,各種大会・事業該当!$A$2:$A$35,0),MATCH(K23,各種大会・事業該当!$B$1:$F$1,0)) -> 0
C24: 謝金申請書・理由書（該当ある場合のみ） | G24: 5 | H24: 45716 | I24: eメール／HP問合せフォーム | K24: ジュニアスポーツ大会 | L24: =INDEX(各種大会・事業該当!$B$2:$F$35,MATCH($E$4,各種大会・事業該当!$A$2:$A$35,0),MATCH(K24,各種大会・事業該当!$B$1:$F$1,0)) -> 0
B25: ジュニア育成 地域推進事業 | C25: 確認書（第５号様式）※ | G25: 6 | H25: 45730 | I25: 紙（郵送または持込） | J25: 未 | K25: ジュニア育成地域推進事業 | L25: =INDEX(各種大会・事業該当!$B$2:$F$35,MATCH($E$4,各種大会・事業該当!$A$2:$A$35,0),MATCH(K25,各種大会・事業該当!$B$1:$F$1,0)) -> ○
C26: 公金取扱者設置届（第６号様式）※ | G26: 7 | H26: 45730 | I26: 紙（郵送または持込） | J26: 未 | K26: ジュニア育成地域推進事業 | L26: =INDEX(各種大会・事業該当!$B$2:$F$35,MATCH($E$4,各種大会・事業該当!$A$2:$A$35,0),MATCH(K26,各種大会・事業該当!$B$1:$F$1,0)) -> ○
C27: 実施計画書 | G27: 8 | H27: 45716 | I27: eメール／HP問合せフォーム | J27: ○ | K27: ジュニア育成地域推進事業 | L27: =INDEX(各種大会・事業該当!$B$2:$F$35,MATCH($E$4,各種大会・事業該当!$A$2:$A$35,0),MATCH(K27,各種大会・事業該当!$B$1:$F$1,0)) -> ○
C28: 収支予算書 | G28: 9 | H28: 45716 | I28: eメール／HP問合せフォーム | J28: ○ | K28: ジュニア育成地域推進事業 | L28: =INDEX(各種大会・事業該当!$B$2:$F$35,MATCH($E$4,各種大会・事業該当!$A$2:$A$35,0),MATCH(K28,各種大会・事業該当!$B$1:$F$1,0)) -> ○
B29: シニアスポーツ 振興事業 | C29: 確認書（第５号様式）※ | G29: 6 | H29: 45730 | I29: 紙（郵送または持込） | K29: シニアスポーツ振興事業 | L29: =INDEX(各種大会・事業該当!$B$2:$F$35,MATCH($E$4,各種大会・事業該当!$A$2:$A$35,0),MATCH(K29,各種大会・事業該当!$B$1:$F$1,0)) -> 0
C30: 公金取扱者設置届（第６号様式）※ | G30: 7 | H30: 45730 | I30: 紙（郵送または持込） | K30: シニアスポーツ振興事業 | L30: =INDEX(各種大会・事業該当!$B$2:$F$35,MATCH($E$4,各種大会・事業該当!$A$2:$A$35,0),MATCH(K30,各種大会・事業該当!$B$1:$F$1,0)) -> 0
C31: 実施計画書 | G31: 8 | H31: 45716 | I31: eメール／HP問合せフォーム | K31: シニアスポーツ振興事業 | L31: =INDEX(各種大会・事業該当!$B$2:$F$35,MATCH($E$4,各種大会・事業該当!$A$2:$A$35,0),MATCH(K31,各種大会・事業該当!$B$1:$F$1,0)) -> 0
C32: 収支予算書 | G32: 9 | H32: 45716 | I32: eメール／HP問合せフォーム | K32: シニアスポーツ振興事業 | L32: =INDEX(各種大会・事業該当!$B$2:$F$35,MATCH($E$4,各種大会・事業該当!$A$2:$A$35,0),MATCH(K32,各種大会・事業該当!$B$1:$F$1,0)) -> 0
A33: ＜留意事項＞
A34: ※提出を複数回に分ける場合は、上記に記載の様式を提出の際に、都度この提出様式一覧表をご提出願います
A35: ※実施計画書・収支予算書について、金額等内容に大幅な変更がある場合は12月末までに事務局にご一報ください
A36: ※大会等要項について、トキメキ3月号及び4月号に募集記事を掲載する予定の競技は、上記締切日によらず至急ご提出をお願いします
A37: ※eメール提出先は足立区スポーツ協会事務局（adachi-spokyo@eos.ocn.ne.jp）です
A38: ※eメール／HP問合せフォームによる提出が難しい場合は、お手数ですが郵送によりご提出ください
A39: ※ジュニア育成・シニア事業の第5号・第6号様式については令和7年2月中旬に改めて新年度様式を送付しますので、そちらを使用願います

Sheet 令和７年度向け提出書類
A1: 新年度（令和８年度）向け提出様式一覧表
C4: 加盟団体名
C5: 担当者
A7: 様式名 | G7: 資料番号 | H7: 提出締切日 | I7: 提出方法 | J7: 今回提出
A8: 共通 | B8: 加盟団体窓口担当者登録申請書 | G8: 資料4-2 | H8: 46112 | I8: eメール／HP問合せフォーム
A9: 大会等要項 | B9: 区民スポーツ大会※ | G9: 資料1 | H9: 46081 | I9: eメール／HP問合せフォーム | K9: 区民スポーツ大会 | L9: =INDEX(各種大会・事業該当!$B$2:$F$35,MATCH($E$4,各種大会・事業該当!$A$2:$A$35,0),MATCH(K9,各種大会・事業該当!$B$1:$F$1,0)) -> #N/A
B10: 東京都スポーツ大会足立区予選会※ | G10: 資料1 | H10: 46081 | I10: eメール／HP問合せフォーム | K10: 東京都スポーツ大会足立区予選会 | L10: =INDEX(各種大会・事業該当!$B$2:$F$35,MATCH($E$4,各種大会・事業該当!$A$2:$A$35,0),MATCH(K10,各種大会・事業該当!$B$1:$F$1,0)) -> #N/A
B11: ジュニアスポーツ大会※ | G11: 資料1 | H11: 46081 | I11: eメール／HP問合せフォーム | K11: ジュニアスポーツ大会 | L11: =INDEX(各種大会・事業該当!$B$2:$F$35,MATCH($E$4,各種大会・事業該当!$A$2:$A$35,0),MATCH(K11,各種大会・事業該当!$B$1:$F$1,0)) -> #N/A
B12: ジュニア育成地域推進事業※ | G12: 資料1 | H12: 46081 | I12: eメール／HP問合せフォーム | K12: ジュニア育成地域推進事業 | L12: =INDEX(各種大会・事業該当!$B$2:$F$35,MATCH($E$4,各種大会・事業該当!$A$2:$A$35,0),MATCH(K12,各種大会・事業該当!$B$1:$F$1,0)) -> #N/A
B13: シニアスポーツ振興事業※ | G13: 資料1 | H13: 46081 | I13: eメール／HP問合せフォーム | K13: シニアスポーツ振興事業 | L13: =INDEX(各種大会・事業該当!$B$2:$F$35,MATCH($E$4,各種大会・事業該当!$A$2:$A$35,0),MATCH(K13,各種大会・事業該当!$B$1:$F$1,0)) -> #N/A
A14: 補助金関連書類 | B14: 区民スポーツ大会 | C14: 実施計画書（様式１） | G14: 資料2-1 | H14: 46112 | I14: eメール／HP問合せフォーム | K14: 区民スポーツ大会 | L14: =INDEX(各種大会・事業該当!$B$2:$F$35,MATCH($E$4,各種大会・事業該当!$A$2:$A$35,0),MATCH(K14,各種大会・事業該当!$B$1:$F$1,0)) -> #N/A
C15: 収支予算書（様式2） | G15: 資料2-2 | H15: 46112 | I15: eメール／HP問合せフォーム | K15: 区民スポーツ大会 | L15: =INDEX(各種大会・事業該当!$B$2:$F$35,MATCH($E$4,各種大会・事業該当!$A$2:$A$35,0),MATCH(K15,各種大会・事業該当!$B$1:$F$1,0)) -> #N/A
C16: 謝金申請書・理由書（該当ある場合のみ） | G16: 資料3-4 | H16: 46112 | I16: eメール／HP問合せフォーム | K16: 区民スポーツ大会 | L16: =INDEX(各種大会・事業該当!$B$2:$F$35,MATCH($E$4,各種大会・事業該当!$A$2:$A$35,0),MATCH(K16,各種大会・事業該当!$B$1:$F$1,0)) -> #N/A
B17: 東京都スポーツ大会足立区予選会 | C17: 実施計画書（様式１） | G17: 資料2-1 | H17: 46112 | I17: eメール／HP問合せフォーム | K17: 東京都スポーツ大会足立区予選会 | L17: =INDEX(各種大会・事業該当!$B$2:$F$35,MATCH($E$4,各種大会・事業該当!$A$2:$A$35,0),MATCH(K17,各種大会・事業該当!$B$1:$F$1,0)) -> #N/A
C18: 収支予算書（様式2） | G18: 資料2-2 | H18: 46112 | I18: eメール／HP問合せフォーム | K18: 東京都スポーツ大会足立区予選会 | L18: =INDEX(各種大会・事業該当!$B$2:$F$35,MATCH($E$4,各種大会・事業該当!$A$2:$A$35,0),MATCH(K18,各種大会・事業該当!$B$1:$F$1,0)) -> #N/A
C19: 謝金申請書・理由書（該当ある場合のみ） | G19: 資料3-4 | H19: 46112 | I19: eメール／HP問合せフォーム | K19: 東京都スポーツ大会足立区予選会 | L19: =INDEX(各種大会・事業該当!$B$2:$F$35,MATCH($E$4,各種大会・事業該当!$A$2:$A$35,0),MATCH(K19,各種大会・事業該当!$B$1:$F$1,0)) -> #N/A
B20: ジュニアスポーツ大会 | C20: 実施計画書（様式１） | G20: 資料2-1 | H20: 46112 | I20: eメール／HP問合せフォーム | K20: ジュニアスポーツ大会 | L20: =INDEX(各種大会・事業該当!$B$2:$F$35,MATCH($E$4,各種大会・事業該当!$A$2:$A$35,0),MATCH(K20,各種大会・事業該当!$B$1:$F$1,0)) -> #N/A
C21: 収支予算書（様式2） | G21: 資料2-2 | H21: 46112 | I21: eメール／HP問合せフォーム | K21: ジュニアスポーツ大会 | L21: =INDEX(各種大会・事業該当!$B$2:$F$35,MATCH($E$4,各種大会・事業該当!$A$2:$A$35,0),MATCH(K21,各種大会・事業該当!$B$1:$F$1,0)) -> #N/A
C22: 謝金申請書・理由書（該当ある場合のみ） | G22: 資料3-4 | H22: 46112 | I22: eメール／HP問合せフォーム | K22: ジュニアスポーツ大会 | L22: =INDEX(各種大会・事業該当!$B$2:$F$35,MATCH($E$4,各種大会・事業該当!$A$2:$A$35,0),MATCH(K22,各種大会・事業該当!$B$1:$F$1,0)) -> #N/A
B23: ジュニア育成 地域推進事業 | C23: 実施計画書 | G23: 後日送付 | H23: 46104 | I23: eメール／HP問合せフォーム | K23: ジュニア育成地域推進事業 | L23: =INDEX(各種大会・事業該当!$B$2:$F$35,MATCH($E$4,各種大会・事業該当!$A$2:$A$35,0),MATCH(K23,各種大会・事業該当!$B$1:$F$1,0)) -> #N/A
C24: 収支予算書 | G24: 後日送付 | H24: 46104 | I24: eメール／HP問合せフォーム | K24: ジュニア育成地域推進事業 | L24: =INDEX(各種大会・事業該当!$B$2:$F$35,MATCH($E$4,各種大会・事業該当!$A$2:$A$35,0),MATCH(K24,各種大会・事業該当!$B$1:$F$1,0)) -> #N/A
B25: シニアスポーツ振興事業 | C25: 実施計画書 | G25: 後日送付 | H25: 46104 | I25: eメール／HP問合せフォーム | K25: シニアスポーツ振興事業 | L25: =INDEX(各種大会・事業該当!$B$2:$F$35,MATCH($E$4,各種大会・事業該当!$A$2:$A$35,0),MATCH(K25,各種大会・事業該当!$B$1:$F$1,0)) -> #N/A
C26: 収支予算書 | G26: 後日送付 | H26: 46104 | I26: eメール／HP問合せフォーム | K26: シニアスポーツ振興事業 | L26: =INDEX(各種大会・事業該当!$B$2:$F$35,MATCH($E$4,各種大会・事業該当!$A$2:$A$35,0),MATCH(K26,各種大会・事業該当!$B$1:$F$1,0)) -> #N/A
A27: ＜留意事項＞
A28: ※提出を複数回に分ける場合は、上記に記載の様式を提出の際に、都度この提出様式一覧表をご提出願います
A29: ※実施計画書・収支予算書について、金額等内容に大幅な変更がある場合は12月末までに事務局にご一報ください
A30: ※大会等要項について、トキメキ3月号及び4月号に募集記事を掲載する予定の競技は、上記締切日によらず別途ご案内している締切日となります
A31: ※eメール提出先は足立区スポーツ協会事務局（adachi-spokyo@eos.ocn.ne.jp）です
A32: ※eメール／HP問合せフォームによる提出が難しい場合は、お手数ですが郵送によりご提出ください

Sheet 各種大会・事業該当
A1: 加盟団体名 | B1: 区民スポーツ大会 | C1: 東京都スポーツ大会足立区予選会 | D1: ジュニアスポーツ大会 | E1: ジュニア育成地域推進事業 | F1: シニアスポーツ振興事業
A2: 足立区軟式野球連盟 | B2: ○ | C2: ○ | D2: ○ | E2: ○
A3: 足立区陸上競技協会 | B3: ○ | C3: ○ | D3: ○ | E3: ○
A4: 足立区柔道会 | B4: ○ | D4: ○ | E4: ○
A5: 足立区卓球連盟 | B5: ○ | C5: ○ | D5: ○ | E5: ○
A6: 足立区ソフトテニス連盟 | B6: ○ | D6: ○
A7: 足立区バレーボール連盟 | B7: ○ | C7: ○ | D7: ○
A8: 足立区水泳連盟 | B8: ○ | D8: ○
A9: 足立区バスケットボール連盟 | B9: ○ | C9: ○ | D9: ○ | E9: ○
A10: 足立区剣道連盟 | B10: ○ | C10: ○ | D10: ○
A11: 足立区サッカー協会 | B11: ○ | C11: ○ | D11: ○ | E11: ○ | F11: ○
A12: 足立区弓道連盟 | B12: ○ | C12: ○
A13: 足立区バドミントン協会 | B13: ○ | C13: ○ | D13: ○ | E13: ○
A14: 足立区ラジオ体操連盟 | B14: ○
A15: 足立区クレー射撃連盟 | B15: ○ | C15: ○
A16: 足立区スキー協会 | B16: ○ | C16: ○
A17: 足立区ライフル射撃連盟 | B17: ○ | C17: ○
A18: 足立区スポーツ少年団 | B18: ○
A19: 足立区空手道連盟 | B19: ○
A20: 足立区なぎなた連盟 | B20: ○ | E20: ○
A21: 足立区ソフトボール連盟 | B21: ○ | C21: ○
A22: 足立区テニス協会 | B22: ○ | C22: ○ | D22: ○ | E22: ○ | F22: ○
A23: 足立区ゲートボール協会 | B23: ○ | F23: ○
A24: 足立区トランポリン協会 | B24: ○ | D24: ○ | E24: ○
A25: 足立区一輪車連盟 | B25: ○
A26: 足立区硬式野球連盟 | B26: ○
A27: 足立区グラウンドゴルフ協会 | B27: ○
A28: 足立区ビーチボールバレー連盟 | B28: ○ | D28: ○
A29: 足立区ゴルフ連盟 | B29: ○ | D29: ○ | E29: ○
A30: 足立区ボウリング連盟 | B30: ○ | C30: ○ | E30: ○ | F30: ○
A31: 足立区武術太極拳連盟 | B31: ○ | E31: ○
A32: 足立区新体操連盟 | B32: ○ | E32: ○
A33: 足立区バトン・チア連盟 | B33: ○
A34: 足立区スポーツウエルネス吹矢協会 | B34: ○
A35: 足立区バウンドテニス協会 | B35: ○
B36: =COUNTIF(B2:B35,"○") -> 34 | C36: =COUNTIF(C2:C35,"○") -> 15 | D36: =COUNTIF(D2:D35,"○") -> 15 | E36: =COUNTIF(E2:E35,"○") -> 14 | F36: =COUNTIF(F2:F35,"○") -> 4

Sheet 令和７年度向け提出書類 (新規加盟・休会団体用)
A1: 新年度（令和７年度）向け提出様式一覧表（新規加盟・休会団体用）
C4: 加盟団体名
C5: 担当者
A7: 様式名 | G7: 資料番号 | H7: 提出締切日 | I7: 提出方法 | J7: 今回提出
A8: 大会等要項 | B8: 区民スポーツ大会※ | G8: 1-1 | H8: 45716 | I8: eメール／HP問合せフォーム | K8: 区民スポーツ大会 | L8: =INDEX(各種大会・事業該当!$B$2:$F$35,MATCH($E$4,各種大会・事業該当!$A$2:$A$35,0),MATCH(K8,各種大会・事業該当!$B$1:$F$1,0)) -> #N/A
B9: 東京都スポーツ大会足立区予選会※ | G9: 1-2 | H9: 45716 | I9: eメール／HP問合せフォーム | K9: 東京都スポーツ大会足立区予選会 | L9: =INDEX(各種大会・事業該当!$B$2:$F$35,MATCH($E$4,各種大会・事業該当!$A$2:$A$35,0),MATCH(K9,各種大会・事業該当!$B$1:$F$1,0)) -> #N/A
B10: ジュニアスポーツ大会※ | G10: 1-3 | H10: 45716 | I10: eメール／HP問合せフォーム | K10: ジュニアスポーツ大会 | L10: =INDEX(各種大会・事業該当!$B$2:$F$35,MATCH($E$4,各種大会・事業該当!$A$2:$A$35,0),MATCH(K10,各種大会・事業該当!$B$1:$F$1,0)) -> #N/A
B11: ジュニア育成地域推進事業※ | G11: 1-4 | H11: 45716 | I11: eメール／HP問合せフォーム | K11: ジュニア育成地域推進事業 | L11: =INDEX(各種大会・事業該当!$B$2:$F$35,MATCH($E$4,各種大会・事業該当!$A$2:$A$35,0),MATCH(K11,各種大会・事業該当!$B$1:$F$1,0)) -> #N/A
B12: シニアスポーツ振興事業※ | G12: 1-5 | H12: 45716 | I12: eメール／HP問合せフォーム | K12: シニアスポーツ振興事業 | L12: =INDEX(各種大会・事業該当!$B$2:$F$35,MATCH($E$4,各種大会・事業該当!$A$2:$A$35,0),MATCH(K12,各種大会・事業該当!$B$1:$F$1,0)) -> #N/A
A13: 補助金 | B13: 区民スポーツ大会 | C13: 大会開催に伴う書類の提出について | G13: 2 | H13: 45716 | I13: eメール／HP問合せフォーム | K13: 区民スポーツ大会 | L13: =INDEX(各種大会・事業該当!$B$2:$F$35,MATCH($E$4,各種大会・事業該当!$A$2:$A$35,0),MATCH(K13,各種大会・事業該当!$B$1:$F$1,0)) -> #N/A
C14: 実施計画書 | G14: 3 | H14: 45716 | I14: eメール／HP問合せフォーム | K14: 区民スポーツ大会 | L14: =INDEX(各種大会・事業該当!$B$2:$F$35,MATCH($E$4,各種大会・事業該当!$A$2:$A$35,0),MATCH(K14,各種大会・事業該当!$B$1:$F$1,0)) -> #N/A
C15: 収支予算書 | G15: 4 | H15: 45716 | I15: eメール／HP問合せフォーム | K15: 区民スポーツ大会 | L15: =INDEX(各種大会・事業該当!$B$2:$F$35,MATCH($E$4,各種大会・事業該当!$A$2:$A$35,0),MATCH(K15,各種大会・事業該当!$B$1:$F$1,0)) -> #N/A
C16: 謝金申請書・理由書（該当ある場合のみ） | G16: 5 | H16: 45716 | I16: eメール／HP問合せフォーム | K16: 区民スポーツ大会 | L16: =INDEX(各種大会・事業該当!$B$2:$F$35,MATCH($E$4,各種大会・事業該当!$A$2:$A$35,0),MATCH(K16,各種大会・事業該当!$B$1:$F$1,0)) -> #N/A
B17: 東京都スポーツ大会足立区予選会 | C17: 大会開催に伴う書類の提出について | G17: 2 | H17: 45716 | I17: eメール／HP問合せフォーム | K17: 東京都スポーツ大会足立区予選会 | L17: =INDEX(各種大会・事業該当!$B$2:$F$35,MATCH($E$4,各種大会・事業該当!$A$2:$A$35,0),MATCH(K17,各種大会・事業該当!$B$1:$F$1,0)) -> #N/A
C18: 実施計画書 | G18: 3 | H18: 45716 | I18: eメール／HP問合せフォーム | K18: 東京都スポーツ大会足立区予選会 | L18: =INDEX(各種大会・事業該当!$B$2:$F$35,MATCH($E$4,各種大会・事業該当!$A$2:$A$35,0),MATCH(K18,各種大会・事業該当!$B$1:$F$1,0)) -> #N/A
C19: 収支予算書 | G19: 4 | H19: 45716 | I19: eメール／HP問合せフォーム | K19: 東京都スポーツ大会足立区予選会 | L19: =INDEX(各種大会・事業該当!$B$2:$F$35,MATCH($E$4,各種大会・事業該当!$A$2:$A$35,0),MATCH(K19,各種大会・事業該当!$B$1:$F$1,0)) -> #N/A
C20: 謝金申請書・理由書（該当ある場合のみ） | G20: 5 | H20: 45716 | I20: eメール／HP問合せフォーム | K20: 東京都スポーツ大会足立区予選会 | L20: =INDEX(各種大会・事業該当!$B$2:$F$35,MATCH($E$4,各種大会・事業該当!$A$2:$A$35,0),MATCH(K20,各種大会・事業該当!$B$1:$F$1,0)) -> #N/A
B21: ジュニアスポーツ大会 | C21: 大会開催に伴う書類の提出について | G21: 2 | H21: 45716 | I21: eメール／HP問合せフォーム | K21: ジュニアスポーツ大会 | L21: =INDEX(各種大会・事業該当!$B$2:$F$35,MATCH($E$4,各種大会・事業該当!$A$2:$A$35,0),MATCH(K21,各種大会・事業該当!$B$1:$F$1,0)) -> #N/A
C22: 実施計画書 | G22: 3 | H22: 45716 | I22: eメール／HP問合せフォーム | K22: ジュニアスポーツ大会 | L22: =INDEX(各種大会・事業該当!$B$2:$F$35,MATCH($E$4,各種大会・事業該当!$A$2:$A$35,0),MATCH(K22,各種大会・事業該当!$B$1:$F$1,0)) -> #N/A
C23: 収支予算書 | G23: 4 | H23: 45716 | I23: eメール／HP問合せフォーム | K23: ジュニアスポーツ大会 | L23: =INDEX(各種大会・事業該当!$B$2:$F$35,MATCH($E$4,各種大会・事業該当!$A$2:$A$35,0),MATCH(K23,各種大会・事業該当!$B$1:$F$1,0)) -> #N/A
C24: 謝金申請書・理由書（該当ある場合のみ） | G24: 5 | H24: 45716 | I24: eメール／HP問合せフォーム | K24: ジュニアスポーツ大会 | L24: =INDEX(各種大会・事業該当!$B$2:$F$35,MATCH($E$4,各種大会・事業該当!$A$2:$A$35,0),MATCH(K24,各種大会・事業該当!$B$1:$F$1,0)) -> #N/A
B25: ジュニア育成 地域推進事業 | C25: 確認書（第５号様式）※ | G25: 6 | H25: 45730 | I25: 紙（郵送または持込） | K25: ジュニア育成地域推進事業 | L25: =INDEX(各種大会・事業該当!$B$2:$F$35,MATCH($E$4,各種大会・事業該当!$A$2:$A$35,0),MATCH(K25,各種大会・事業該当!$B$1:$F$1,0)) -> #N/A
C26: 公金取扱者設置届（第６号様式）※ | G26: 7 | H26: 45730 | I26: 紙（郵送または持込） | K26: ジュニア育成地域推進事業 | L26: =INDEX(各種大会・事業該当!$B$2:$F$35,MATCH($E$4,各種大会・事業該当!$A$2:$A$35,0),MATCH(K26,各種大会・事業該当!$B$1:$F$1,0)) -> #N/A
C27: 実施計画書 | G27: 8 | H27: 45716 | I27: eメール／HP問合せフォーム | K27: ジュニア育成地域推進事業 | L27: =INDEX(各種大会・事業該当!$B$2:$F$35,MATCH($E$4,各種大会・事業該当!$A$2:$A$35,0),MATCH(K27,各種大会・事業該当!$B$1:$F$1,0)) -> #N/A
C28: 収支予算書 | G28: 9 | H28: 45716 | I28: eメール／HP問合せフォーム | K28: ジュニア育成地域推進事業 | L28: =INDEX(各種大会・事業該当!$B$2:$F$35,MATCH($E$4,各種大会・事業該当!$A$2:$A$35,0),MATCH(K28,各種大会・事業該当!$B$1:$F$1,0)) -> #N/A
B29: シニアスポーツ 振興事業 | C29: 確認書（第５号様式）※ | G29: 6 | H29: 45730 | I29: 紙（郵送または持込） | K29: シニアスポーツ振興事業 | L29: =INDEX(各種大会・事業該当!$B$2:$F$35,MATCH($E$4,各種大会・事業該当!$A$2:$A$35,0),MATCH(K29,各種大会・事業該当!$B$1:$F$1,0)) -> #N/A
C30: 公金取扱者設置届（第６号様式）※ | G30: 7 | H30: 45730 | I30: 紙（郵送または持込） | K30: シニアスポーツ振興事業 | L30: =INDEX(各種大会・事業該当!$B$2:$F$35,MATCH($E$4,各種大会・事業該当!$A$2:$A$35,0),MATCH(K30,各種大会・事業該当!$B$1:$F$1,0)) -> #N/A
C31: 実施計画書 | G31: 8 | H31: 45716 | I31: eメール／HP問合せフォーム | K31: シニアスポーツ振興事業 | L31: =INDEX(各種大会・事業該当!$B$2:$F$35,MATCH($E$4,各種大会・事業該当!$A$2:$A$35,0),MATCH(K31,各種大会・事業該当!$B$1:$F$1,0)) -> #N/A
C32: 収支予算書 | G32: 9 | H32: 45716 | I32: eメール／HP問合せフォーム | K32: シニアスポーツ振興事業 | L32: =INDEX(各種大会・事業該当!$B$2:$F$35,MATCH($E$4,各種大会・事業該当!$A$2:$A$35,0),MATCH(K32,各種大会・事業該当!$B$1:$F$1,0)) -> #N/A
A33: ＜留意事項＞
A34: ※提出を複数回に分ける場合は、上記に記載の様式を提出の際に、都度この提出様式一覧表をご提出願います
A35: ※実施計画書・収支予算書について、金額等内容に大幅な変更がある場合は12月末までに事務局にご一報ください
A36: ※大会等要項について、トキメキ3月号及び4月号に募集記事を掲載する予定の競技は、上記締切日によらず至急ご提出をお願いします
A37: ※eメール提出先は足立区スポーツ協会事務局（adachi-spokyo@eos.ocn.ne.jp）です
A38: ※eメール／HP問合せフォームによる提出が難しい場合は、お手数ですが郵送によりご提出ください
A39: ※ジュニア育成・シニア事業の第5号・第6号様式については令和7年2月中旬に改めて新年度様式を送付しますので、そちらを使用願います
